BEGIN:VCALENDAR
VERSION:2.0
PRODID:-//RIGHTHERE//CALENDARIZE IT V3.2//EN
BEGIN:VTIMEZONE
TZID:America/New_York
X-MICROSOFT-CDO-TZID:10
BEGIN:STANDARD
DTSTART:20251102T060000
TZOFFSETFROM:-0400
TZOFFSETTO:-0500
TZNAME:EST
END:STANDARD
BEGIN:DAYLIGHT
DTSTART:20260308T070000
TZOFFSETFROM:-0500
TZOFFSETTO:-0400
TZNAME:EDT
END:DAYLIGHT
BEGIN:STANDARD
DTSTART:20261101T060000
TZOFFSETFROM:-0400
TZOFFSETTO:-0500
TZNAME:EST
END:STANDARD
END:VTIMEZONE
BEGIN:VEVENT
UID:5221-events@www.townofcolden.com
DTSTART;TZID=America/New_York:20200514T190000
DTEND;TZID=America/New_York:20200514T220000
DTSTAMP;TZID=America/New_York:20210205T110637
SUMMARY:Environmental Board Meetings – First Tuesday of each month at 7:0
 0 PM
EXDATE:20200514T230000Z
RDATE;TZID=America/New_York;VALUE=PERIOD:20200505T190000/20200505T220000,20
 210302T190000/20210302T220000,20210406T190000/20210406T220000,20210504T190
 000/20210504T220000,20210601T190000/20210601T220000,20210706T190000/202107
 06T220000,20210803T190000/20210803T220000,20210907T190000/20210907T220000,
 20211005T190000/20211005T220000
URL:https://www.townofcolden.com/site/events/environmental-board-meetings-f
 irst-tuesday-of-each-month-at-700-pm
END:VEVENT
END:VCALENDAR